BEGIN:VCALENDAR
VERSION:2.0
PRODID:-//Health Affiliates Maine - ECPv6.15.20//NONSGML v1.0//EN
CALSCALE:GREGORIAN
METHOD:PUBLISH
X-WR-CALNAME:Health Affiliates Maine
X-ORIGINAL-URL:https://healthaffiliatesmaine.com
X-WR-CALDESC:Events for Health Affiliates Maine
REFRESH-INTERVAL;VALUE=DURATION:PT1H
X-Robots-Tag:noindex
X-PUBLISHED-TTL:PT1H
BEGIN:VTIMEZONE
TZID:America/New_York
BEGIN:DAYLIGHT
TZOFFSETFROM:-0500
TZOFFSETTO:-0400
TZNAME:EDT
DTSTART:20140309T070000
END:DAYLIGHT
BEGIN:STANDARD
TZOFFSETFROM:-0400
TZOFFSETTO:-0500
TZNAME:EST
DTSTART:20141102T060000
END:STANDARD
BEGIN:DAYLIGHT
TZOFFSETFROM:-0500
TZOFFSETTO:-0400
TZNAME:EDT
DTSTART:20150308T070000
END:DAYLIGHT
BEGIN:STANDARD
TZOFFSETFROM:-0400
TZOFFSETTO:-0500
TZNAME:EST
DTSTART:20151101T060000
END:STANDARD
BEGIN:DAYLIGHT
TZOFFSETFROM:-0500
TZOFFSETTO:-0400
TZNAME:EDT
DTSTART:20160313T070000
END:DAYLIGHT
BEGIN:STANDARD
TZOFFSETFROM:-0400
TZOFFSETTO:-0500
TZNAME:EST
DTSTART:20161106T060000
END:STANDARD
END:VTIMEZONE
BEGIN:VEVENT
DTSTART;TZID=America/New_York:20150416T153000
DTEND;TZID=America/New_York:20150930T170000
DTSTAMP:20260423T145403
CREATED:20150508T192106Z
LAST-MODIFIED:20150511T203656Z
UID:1298-1429198200-1443632400@healthaffiliatesmaine.com
SUMMARY:Wellness & Recovery Support Group
DESCRIPTION:Support Group Education Course – The Recovery Workbook\nRecovery Curriculum from Boston University Center for Psychiatric Rehabilitation \nBeginning Spring 201515 Week Course\nWednesdays from 3:30 – 5:00 pm\n  \nOffers Practical Coping & Empowerment Strategies in a peer support group\, covering: \n\nRecovery\nIncreased knowledge & control\nManaging life’s stressors\nEnhancing personal meaning\nBuilding personal support\nSetting personal goals\n\nLocation: St. Mary’s Regional Medical Center\nNow Accepting New Members\nCurrently accepting participants with Mainecare & a mental health diagnosis.  10 participants required to start the group.  \nSlots fill up quickly – Sign Up Now! \nTo Register please call: 1-877-888-4304\n 
URL:https://healthaffiliatesmaine.com/event/wellness-recovery-support-group/
LOCATION:St. Mary’s Regional Medical Center\, 93 Campus Ave.\, Lewiston\, ME\, 04240\, United States
CATEGORIES:Counseling Groups
ATTACH;FMTTYPE=image/jpeg:https://healthaffiliatesmaine.com/wp-content/uploads/2015/04/HappyPeople-medium-e1429208726528.jpg
END:VEVENT
BEGIN:VEVENT
DTSTART;TZID=America/New_York:20150413T153000
DTEND;TZID=America/New_York:20150930T170000
DTSTAMP:20260423T145403
CREATED:20150416T222742Z
LAST-MODIFIED:20150818T181812Z
UID:1238-1428939000-1443632400@healthaffiliatesmaine.com
SUMMARY:Trauma Recovery & Empowerment Model (TREM) Support Group
DESCRIPTION:SUPPORT GROUP: Trauma Recovery for WOMEN led by WOMEN!\n24-29 Week Education and Support Group \nStarting in January 2014\nMondays from 3:30 – 5:00 pm \n  \nJoin us for structured discussions to: \n\nIncrease social supports & know your not alone\nDefine different types of abuse & their affects\nBuild confidence & self esteem\nLearn coping skills\nExplore relationships & intimacy issues\nEducational / Peer Supported\nBe more accepting of who you are as  a women!\n\nLocation: 97 Blake Street\, Lewiston\nNow Accepting New Members\nPlease call to join the group: 333-3278\n 
URL:https://healthaffiliatesmaine.com/event/trem-support-group/
LOCATION:The Center for Wisdom’s Women\, 97 Blake St\, Lewiston\, ME\, 04240\, United States
CATEGORIES:Counseling Groups
ATTACH;FMTTYPE=image/jpeg:https://healthaffiliatesmaine.com/wp-content/uploads/2015/04/WomanHopeful-medium.jpg
END:VEVENT
END:VCALENDAR